BEGIN:VCALENDAR
VERSION:2.0
PRODID:-//Hexerey - natürlich magisch - ECPv6.15.20//NONSGML v1.0//EN
CALSCALE:GREGORIAN
METHOD:PUBLISH
X-WR-CALNAME:Hexerey - natürlich magisch
X-ORIGINAL-URL:https://hexerey.com
X-WR-CALDESC:Veranstaltungen für Hexerey - natürlich magisch
REFRESH-INTERVAL;VALUE=DURATION:PT1H
X-Robots-Tag:noindex
X-PUBLISHED-TTL:PT1H
BEGIN:VTIMEZONE
TZID:Europe/Berlin
BEGIN:DAYLIGHT
TZOFFSETFROM:+0100
TZOFFSETTO:+0200
TZNAME:CEST
DTSTART:20250330T010000
END:DAYLIGHT
BEGIN:STANDARD
TZOFFSETFROM:+0200
TZOFFSETTO:+0100
TZNAME:CET
DTSTART:20251026T010000
END:STANDARD
BEGIN:DAYLIGHT
TZOFFSETFROM:+0100
TZOFFSETTO:+0200
TZNAME:CEST
DTSTART:20260329T010000
END:DAYLIGHT
BEGIN:STANDARD
TZOFFSETFROM:+0200
TZOFFSETTO:+0100
TZNAME:CET
DTSTART:20261025T010000
END:STANDARD
BEGIN:DAYLIGHT
TZOFFSETFROM:+0100
TZOFFSETTO:+0200
TZNAME:CEST
DTSTART:20270328T010000
END:DAYLIGHT
BEGIN:STANDARD
TZOFFSETFROM:+0200
TZOFFSETTO:+0100
TZNAME:CET
DTSTART:20271031T010000
END:STANDARD
END:VTIMEZONE
BEGIN:VEVENT
DTSTART;TZID=Europe/Berlin:20260529T193000
DTEND;TZID=Europe/Berlin:20260529T203000
DTSTAMP:20260423T071447
CREATED:20260112T165620Z
LAST-MODIFIED:20260113T141706Z
UID:34485-1780083000-1780086600@hexerey.com
SUMMARY:Infoabend Paganismus (Frühlings-Talk)
DESCRIPTION:Was ist Paganismus? Hexen\, Heiden\, Druiden u.ä.\nEin offener Raum für Dialog und Fragen\nPaganismus ist ein Sammelbegriff für verschiedene naturspirituelle Strömungen\, die sich an vorchristlichen Überlieferungen in Europa orientieren. Die Auslebung und Interpretation sind dabei oft individuell und geprägt von persönlicher Erfahrung. Der Glaube an eine beseelte Natur\, verschiedene Gottheiten und das Leben mit den Rhythmen der Natur sowie das Feiern der Jahreskreisfeste stehen dabei im Mittelpunkt. \n\n\nKlischees klären & Naturspiritualität erleben\nVielleicht stehst du schon länger vor dem Schaufenster der Hexerey und fragst dich: „Was machen die da eigentlich?“ Vielleicht liest du viel über moderne Hexen\, weißt aber nicht\, was davon fundiert ist und was nur schöner Schein. Oder du hast eine ganz konkrete Frage im Kopf\, die du dich bisher nirgendwo zu stellen getraut hast. \nGenau dafür ist dieser Abend da. \nHut\, Besen und Kessel sind die bekannten Bilder. Doch was bedeutet es heute\, einen spirituellen Weg der Selbstfindung oder Magie zu gehen? Ist das Internet voll von Mainstream-Alltagsmagie oder gibt es dort echte Tiefe? Dr. Daniela Dick\, Expertin für Naturspiritualität\, räumt mit Vorurteilen auf und teilt persönliche Einblicke aus über 30 Jahren paganem Alltag. \n\n\nKomm vorbei und stell Deine Fragen:\nWas ist der Unterschied zwischen Hexen\, Heiden und Druiden?\nWie sieht ein moderner paganer Lebensweg aus?\nWas bedeuten Begriffe wie Animismus oder Neodruidentum?\n…oder was auch immer du schon immer mal fragen wolltest. \nWeitere Beispiele für Themen und Fragen: \n\nWie passt Naturspiritualität in ein modernes Leben zwischen Job und Alltag?\nWas ist der Unterschied zwischen einem Ästhetik-Lifestyle (‘Witchcore’)\, wie er gerade in den Sozialen Medien sehr populär ist\, und einem ernsthaften spirituellen Weg?\nWelches Weltbild und welche Ethik stecken hinter dem Paganismus?\nMuss ich an Götter glauben\, um Heide zu sein?\nIch fühle mich zur Natur hingezogen\, weiß aber nicht\, wo ich anfangen soll.\nIch habe mir viele Bücher über Hexen und Kräuter gekauft\, weiß aber nicht\, wo ich anfangen soll.\nBrauche ich wirklich Kristalle\, Kessel und teures Zubehör\, um Paganismus zu praktizieren?\nWie erkläre ich meinen Kindern oder meinem Umfeld dieses Weltbild\, ohne dass es befremdlich wirkt?\nWie finde ich Gruppen oder Gleichgesinnte\, denen man sich anschließen kann\, wenn man nicht mehr alleine praktizieren möchte?\n\n\n\nEin Abend ohne Druck: Kostenlos und ohne Anmeldung\nDie Veranstaltung ist kostenlos\, bedarf keiner Anmeldung und ist völlig unverbindlich. Es geht nicht darum\, jemanden zu überzeugen\, sondern darum\, Information und Austausch auf Augenhöhe zu ermöglichen. Es soll ein lockeres Gespräch sein mit Raum für Fragen\, Antworten\, Diskussionen und Dialoge. Ein ungezwungener Erstkontakt für Neugierige und Interessierte. \n\n\nTermine 2026 (jeweils Freitag):\n27. Februar 2026\n29. Mai 2026\n28. August 2026\n27. November 2026 \n\n\nIn Kooperation mit der PFI\nDer Abend findet in Kooperation mit der Pagan Federation International (PFI) / PFI-Deutschland e.V. statt. Die PFI leistet seit 1971 Pionierarbeit in der Aufklärung und bietet ein Netzwerk für den persönlichen Kontakt zu paganen Menschen. \nKontakt in Hamburg: hamburg@pfi-deutschland.de \n\n\nSag es weiter!
URL:https://hexerey.com/veranstaltung/infoabend-paganismus-mai-2026/
LOCATION:Hexerey\, Dorotheenstraße 184 A\, Hamburg\, 22299
CATEGORIES:Seminar
ATTACH;FMTTYPE=image/jpeg:https://hexerey.com/wp-content/uploads/2018/10/moon-1805899_web.jpg
ORGANIZER;CN="Pagan GmbH (Hexerey)":MAILTO:moin@hexerey.com
END:VEVENT
END:VCALENDAR